BEGIN:VCALENDAR
VERSION:2.0
PRODID:-//St. Andrews Church - ECPv5.6.0//NONSGML v1.0//EN
CALSCALE:GREGORIAN
METHOD:PUBLISH
X-WR-CALNAME:St. Andrews Church
X-ORIGINAL-URL:https://www.st-andrews-united.ca
X-WR-CALDESC:Events for St. Andrews Church
BEGIN:VTIMEZONE
TZID:America/Vancouver
BEGIN:DAYLIGHT
TZOFFSETFROM:-0800
TZOFFSETTO:-0700
TZNAME:PDT
DTSTART:20230312T100000
END:DAYLIGHT
BEGIN:STANDARD
TZOFFSETFROM:-0700
TZOFFSETTO:-0800
TZNAME:PST
DTSTART:20231105T090000
END:STANDARD
END:VTIMEZONE
BEGIN:VEVENT
DTSTART;TZID=America/Vancouver:20231102T130000
DTEND;TZID=America/Vancouver:20231102T140000
DTSTAMP:20260425T140650
CREATED:20230907T200801Z
LAST-MODIFIED:20231024T190635Z
UID:20064-1698930000-1698933600@www.st-andrews-united.ca
SUMMARY:Discover the World of Bees
DESCRIPTION:A workshop with our Alvéole beekeeper\, exploring the fascinating role bees play in the world. Free! In the Sanctuary. \nPlease RSVP to the church: 604-985-0408 or minister@st-andrews-united.ca. Thanks!
URL:https://www.st-andrews-united.ca/event/discover-the-world-of-bees-2/
LOCATION:St-Andrew’s Church\, 1044 St. George’s Avenue\, North Vancouver\, Vancouver\, BC\, V7L 3H6\, Canada
END:VEVENT
END:VCALENDAR