BEGIN:VCALENDAR
VERSION:2.0
PRODID:-//St. Andrews Church - ECPv5.6.0//NONSGML v1.0//EN
CALSCALE:GREGORIAN
METHOD:PUBLISH
X-WR-CALNAME:St. Andrews Church
X-ORIGINAL-URL:https://www.st-andrews-united.ca
X-WR-CALDESC:Events for St. Andrews Church
BEGIN:VTIMEZONE
TZID:America/Vancouver
BEGIN:DAYLIGHT
TZOFFSETFROM:-0800
TZOFFSETTO:-0700
TZNAME:PDT
DTSTART:20240310T100000
END:DAYLIGHT
BEGIN:STANDARD
TZOFFSETFROM:-0700
TZOFFSETTO:-0800
TZNAME:PST
DTSTART:20241103T090000
END:STANDARD
END:VTIMEZONE
BEGIN:VEVENT
DTSTART;TZID=America/Vancouver:20240601T130000
DTEND;TZID=America/Vancouver:20240601T140000
DTSTAMP:20260420T041833
CREATED:20240523T172859Z
LAST-MODIFIED:20240523T172859Z
UID:21905-1717246800-1717250400@www.st-andrews-united.ca
SUMMARY:Meet the Bees
DESCRIPTION:Join us outside the beehive to learn about a day in the life of a beekeeper. Our very own beekeeper\, Teagan\, will walk us through the hive’s different products (wax\, pollen\, honey and propolis) and introduce to the different members of the hive. \nFree! All are welcome. \n 
URL:https://www.st-andrews-united.ca/event/meet-the-bees/
LOCATION:St-Andrew’s Church\, 1044 St. George’s Avenue\, North Vancouver\, Vancouver\, BC\, V7L 3H6\, Canada
END:VEVENT
END:VCALENDAR