BEGIN:VCALENDAR
VERSION:2.0
PRODID:-//St. Andrews Church - ECPv5.6.0//NONSGML v1.0//EN
CALSCALE:GREGORIAN
METHOD:PUBLISH
X-WR-CALNAME:St. Andrews Church
X-ORIGINAL-URL:https://www.st-andrews-united.ca
X-WR-CALDESC:Events for St. Andrews Church
BEGIN:VTIMEZONE
TZID:UTC
BEGIN:STANDARD
TZOFFSETFROM:+0000
TZOFFSETTO:+0000
TZNAME:UTC
DTSTART:20260101T000000
END:STANDARD
TZID:America/Vancouver
BEGIN:DAYLIGHT
TZOFFSETFROM:-0800
TZOFFSETTO:-0700
TZNAME:PDT
DTSTART:20260308T100000
END:DAYLIGHT
BEGIN:STANDARD
TZOFFSETFROM:-0700
TZOFFSETTO:-0800
TZNAME:PST
DTSTART:20261101T090000
END:STANDARD
END:VTIMEZONE
BEGIN:VEVENT
DTSTART;TZID=UTC:20261122T100000
DTEND;TZID=UTC:20261122T110000
DTSTAMP:20260421T032313
CREATED:20201128T085210Z
LAST-MODIFIED:20201128T085210Z
UID:26180-1795341600-1795345200@www.st-andrews-united.ca
SUMMARY:Sunday Worship (in person and online)
DESCRIPTION:At 10 am\, either join us in person or watch the live stream on YouTube. \n(Just click the far right icon on our homepage\, looks like a play button).
URL:https://www.st-andrews-united.ca/event/worship-on-sunday-through-youtube-2021-12-19-2023-07-09-2023-11-12/2026-11-22/
LOCATION:St-Andrew’s Church\, 1044 St. George’s Avenue\, North Vancouver\, Vancouver\, BC\, V7L 3H6\, Canada
CATEGORIES:Sundays at 10 AM
END:VEVENT
BEGIN:VEVENT
DTSTART;TZID=America/Vancouver:20261122T160000
DTEND;TZID=America/Vancouver:20261122T170000
DTSTAMP:20260421T032313
CREATED:20260313T173022Z
LAST-MODIFIED:20260313T173022Z
UID:27376-1795363200-1795366800@www.st-andrews-united.ca
SUMMARY:Contemplative Taizé Service
DESCRIPTION:
URL:https://www.st-andrews-united.ca/event/contemplative-taize-service-2/2026-11-22/
LOCATION:St-Andrew’s Church\, 1044 St. George’s Avenue\, North Vancouver\, Vancouver\, BC\, V7L 3H6\, Canada
CATEGORIES:Featured|Major|Taize
END:VEVENT
END:VCALENDAR