BEGIN:VCALENDAR
VERSION:2.0
PRODID:-//St. Andrews Church - ECPv5.6.0//NONSGML v1.0//EN
CALSCALE:GREGORIAN
METHOD:PUBLISH
X-WR-CALNAME:St. Andrews Church
X-ORIGINAL-URL:https://www.st-andrews-united.ca
X-WR-CALDESC:Events for St. Andrews Church
BEGIN:VTIMEZONE
TZID:America/Vancouver
BEGIN:DAYLIGHT
TZOFFSETFROM:-0800
TZOFFSETTO:-0700
TZNAME:PDT
DTSTART:20220313T100000
END:DAYLIGHT
BEGIN:STANDARD
TZOFFSETFROM:-0700
TZOFFSETTO:-0800
TZNAME:PST
DTSTART:20221106T090000
END:STANDARD
END:VTIMEZONE
BEGIN:VEVENT
DTSTART;TZID=America/Vancouver:20221109T180000
DTEND;TZID=America/Vancouver:20221109T200000
DTSTAMP:20260422T085457
CREATED:20221108T024301Z
LAST-MODIFIED:20221108T024301Z
UID:17137-1668016800-1668024000@www.st-andrews-united.ca
SUMMARY:Board Meeting
DESCRIPTION:in the Friendship Room
URL:https://www.st-andrews-united.ca/event/board-meeting-7/
LOCATION:St-Andrew’s Church\, 1044 St. George’s Avenue\, North Vancouver\, Vancouver\, BC\, V7L 3H6\, Canada
CATEGORIES:Church Meeting
END:VEVENT
END:VCALENDAR