BEGIN:VCALENDAR
VERSION:2.0
PRODID:-//St. Andrews Church - ECPv5.6.0//NONSGML v1.0//EN
CALSCALE:GREGORIAN
METHOD:PUBLISH
X-WR-CALNAME:St. Andrews Church
X-ORIGINAL-URL:https://www.st-andrews-united.ca
X-WR-CALDESC:Events for St. Andrews Church
BEGIN:VTIMEZONE
TZID:America/Vancouver
BEGIN:DAYLIGHT
TZOFFSETFROM:-0800
TZOFFSETTO:-0700
TZNAME:PDT
DTSTART:20220313T100000
END:DAYLIGHT
BEGIN:STANDARD
TZOFFSETFROM:-0700
TZOFFSETTO:-0800
TZNAME:PST
DTSTART:20221106T090000
END:STANDARD
END:VTIMEZONE
BEGIN:VEVENT
DTSTART;TZID=America/Vancouver:20221122T170000
DTEND;TZID=America/Vancouver:20221122T173000
DTSTAMP:20260422T085433
CREATED:20221108T024457Z
LAST-MODIFIED:20221108T024457Z
UID:17141-1669136400-1669138200@www.st-andrews-united.ca
SUMMARY:Management Team Meeting
DESCRIPTION:by Zoom.
URL:https://www.st-andrews-united.ca/event/management-team-meeting-11/
LOCATION:St-Andrew’s Church\, 1044 St. George’s Avenue\, North Vancouver\, Vancouver\, BC\, V7L 3H6\, Canada
CATEGORIES:Church Meeting
END:VEVENT
END:VCALENDAR